BEGIN:VCALENDAR
VERSION:2.0
PRODID:-//Église protestante Unie - ECPv6.2.2//NONSGML v1.0//EN
CALSCALE:GREGORIAN
METHOD:PUBLISH
X-ORIGINAL-URL:https://epu-reimsepernay.org
X-WR-CALDESC:évènements pour Église protestante Unie
REFRESH-INTERVAL;VALUE=DURATION:PT1H
X-Robots-Tag:noindex
X-PUBLISHED-TTL:PT1H
BEGIN:VTIMEZONE
TZID:UTC
BEGIN:STANDARD
TZOFFSETFROM:+0000
TZOFFSETTO:+0000
TZNAME:UTC
DTSTART:20260101T000000
END:STANDARD
END:VTIMEZONE
BEGIN:VEVENT
DTSTART;TZID=UTC:20260425T150000
DTEND;TZID=UTC:20260425T170000
DTSTAMP:20260424T084958
CREATED:20260225T162225Z
LAST-MODIFIED:20260225T162225Z
UID:7722-1777129200-1777136400@epu-reimsepernay.org
SUMMARY:Répétition de la chorale malgache
DESCRIPTION:
URL:https://epu-reimsepernay.org/evenements/repetition-de-la-chorale-malgache-89/
LOCATION:Rue Andrieux\, 12 Rue Andrieux\, Reims\, 51100\, France
CATEGORIES:Musique Louange
END:VEVENT
BEGIN:VEVENT
DTSTART;TZID=UTC:20260425T163000
DTEND;TZID=UTC:20260425T183000
DTSTAMP:20260424T084958
CREATED:20260225T162301Z
LAST-MODIFIED:20260225T162301Z
UID:7724-1777134600-1777141800@epu-reimsepernay.org
SUMMARY:Répétition de la chorale Victoire
DESCRIPTION:
URL:https://epu-reimsepernay.org/evenements/repetition-de-la-chorale-victoire-38/
LOCATION:Rue Andrieux\, 12 Rue Andrieux\, Reims\, 51100\, France
CATEGORIES:Musique Louange
END:VEVENT
END:VCALENDAR