BEGIN:VCALENDAR
VERSION:2.0
PRODID:-//Église protestante Unie - ECPv6.2.2//NONSGML v1.0//EN
CALSCALE:GREGORIAN
METHOD:PUBLISH
X-ORIGINAL-URL:https://epu-reimsepernay.org
X-WR-CALDESC:évènements pour Église protestante Unie
REFRESH-INTERVAL;VALUE=DURATION:PT1H
X-Robots-Tag:noindex
X-PUBLISHED-TTL:PT1H
BEGIN:VTIMEZONE
TZID:UTC
BEGIN:STANDARD
TZOFFSETFROM:+0000
TZOFFSETTO:+0000
TZNAME:UTC
DTSTART:20260101T000000
END:STANDARD
END:VTIMEZONE
BEGIN:VEVENT
DTSTART;TZID=UTC:20260226T100000
DTEND;TZID=UTC:20260226T170000
DTSTAMP:20260425T114518
CREATED:20251113T090445Z
LAST-MODIFIED:20251113T090445Z
UID:7391-1772100000-1772125200@epu-reimsepernay.org
SUMMARY:Groupe « Nature et bois »
DESCRIPTION:
URL:https://epu-reimsepernay.org/evenements/groupe-nature-et-bois-81/
LOCATION:Rue Raymond Guyot\, 19 Rue Raymond Guyot\, Reims\, 51100\, France
CATEGORIES:Groupe Nature & Bois
END:VEVENT
END:VCALENDAR