BEGIN:VCALENDAR
VERSION:2.0
PRODID:-//Église protestante Unie - ECPv6.2.2//NONSGML v1.0//EN
CALSCALE:GREGORIAN
METHOD:PUBLISH
X-ORIGINAL-URL:https://epu-reimsepernay.org
X-WR-CALDESC:évènements pour Église protestante Unie
REFRESH-INTERVAL;VALUE=DURATION:PT1H
X-Robots-Tag:noindex
X-PUBLISHED-TTL:PT1H
BEGIN:VTIMEZONE
TZID:UTC
BEGIN:STANDARD
TZOFFSETFROM:+0000
TZOFFSETTO:+0000
TZNAME:UTC
DTSTART:20260101T000000
END:STANDARD
END:VTIMEZONE
BEGIN:VEVENT
DTSTART;TZID=UTC:20260305T100000
DTEND;TZID=UTC:20260305T170000
DTSTAMP:20260421T132318
CREATED:20260124T080608Z
LAST-MODIFIED:20260124T080608Z
UID:7515-1772704800-1772730000@epu-reimsepernay.org
SUMMARY:Groupe « Nature et bois »
DESCRIPTION:
URL:https://epu-reimsepernay.org/evenements/groupe-nature-et-bois-82/
LOCATION:Rue Raymond Guyot\, 19 Rue Raymond Guyot\, Reims\, 51100\, France
CATEGORIES:Groupe Nature & Bois
END:VEVENT
BEGIN:VEVENT
DTSTART;TZID=UTC:20260312T100000
DTEND;TZID=UTC:20260312T170000
DTSTAMP:20260421T132318
CREATED:20260124T081229Z
LAST-MODIFIED:20260124T081229Z
UID:7541-1773309600-1773334800@epu-reimsepernay.org
SUMMARY:Groupe « Nature et bois »
DESCRIPTION:
URL:https://epu-reimsepernay.org/evenements/groupe-nature-et-bois-83/
LOCATION:Rue Raymond Guyot\, 19 Rue Raymond Guyot\, Reims\, 51100\, France
CATEGORIES:Groupe Nature & Bois
END:VEVENT
BEGIN:VEVENT
DTSTART;TZID=UTC:20260319T100000
DTEND;TZID=UTC:20260319T170000
DTSTAMP:20260421T132318
CREATED:20260124T081945Z
LAST-MODIFIED:20260124T081945Z
UID:7571-1773914400-1773939600@epu-reimsepernay.org
SUMMARY:Groupe « Nature et bois »
DESCRIPTION:
URL:https://epu-reimsepernay.org/evenements/groupe-nature-et-bois-84/
LOCATION:Rue Raymond Guyot\, 19 Rue Raymond Guyot\, Reims\, 51100\, France
CATEGORIES:Groupe Nature & Bois
END:VEVENT
BEGIN:VEVENT
DTSTART;TZID=UTC:20260326T100000
DTEND;TZID=UTC:20260326T170000
DTSTAMP:20260421T132318
CREATED:20260124T082426Z
LAST-MODIFIED:20260124T082426Z
UID:7591-1774519200-1774544400@epu-reimsepernay.org
SUMMARY:Groupe « Nature et bois »
DESCRIPTION:
URL:https://epu-reimsepernay.org/evenements/groupe-nature-et-bois-85/
LOCATION:Rue Raymond Guyot\, 19 Rue Raymond Guyot\, Reims\, 51100\, France
CATEGORIES:Groupe Nature & Bois
END:VEVENT
END:VCALENDAR