BEGIN:VCALENDAR
VERSION:2.0
PRODID:-//Église protestante Unie - ECPv6.2.2//NONSGML v1.0//EN
CALSCALE:GREGORIAN
METHOD:PUBLISH
X-WR-CALNAME:Église protestante Unie
X-ORIGINAL-URL:https://epu-reimsepernay.org
X-WR-CALDESC:évènements pour Église protestante Unie
REFRESH-INTERVAL;VALUE=DURATION:PT1H
X-Robots-Tag:noindex
X-PUBLISHED-TTL:PT1H
BEGIN:VTIMEZONE
TZID:UTC
BEGIN:STANDARD
TZOFFSETFROM:+0000
TZOFFSETTO:+0000
TZNAME:UTC
DTSTART:20260101T000000
END:STANDARD
END:VTIMEZONE
BEGIN:VEVENT
DTSTART;TZID=UTC:20260403T190000
DTEND;TZID=UTC:20260403T190000
DTSTAMP:20260421T094035
CREATED:20260225T154606Z
LAST-MODIFIED:20260225T154606Z
UID:7647-1775242800-1775242800@epu-reimsepernay.org
SUMMARY:Culte du Vendredi-Saint
DESCRIPTION:
URL:https://epu-reimsepernay.org/evenements/culte-du-vendredi-saint-2/
LOCATION:Temple de Reims\, 13 ter Boulevard Lundy\, Reims\, 51100\, France
CATEGORIES:Culte
END:VEVENT
END:VCALENDAR