BEGIN:VCALENDAR
VERSION:2.0
PRODID:-//Église protestante Unie - ECPv6.2.2//NONSGML v1.0//EN
CALSCALE:GREGORIAN
METHOD:PUBLISH
X-WR-CALNAME:Église protestante Unie
X-ORIGINAL-URL:https://epu-reimsepernay.org
X-WR-CALDESC:évènements pour Église protestante Unie
REFRESH-INTERVAL;VALUE=DURATION:PT1H
X-Robots-Tag:noindex
X-PUBLISHED-TTL:PT1H
BEGIN:VTIMEZONE
TZID:UTC
BEGIN:STANDARD
TZOFFSETFROM:+0000
TZOFFSETTO:+0000
TZNAME:UTC
DTSTART:20260101T000000
END:STANDARD
END:VTIMEZONE
BEGIN:VEVENT
DTSTART;TZID=UTC:20260208T103000
DTEND;TZID=UTC:20260208T103000
DTSTAMP:20260425T115553
CREATED:20251113T084745Z
LAST-MODIFIED:20251113T084745Z
UID:7336-1770546600-1770546600@epu-reimsepernay.org
SUMMARY:Culte (Temple de Reims)
DESCRIPTION:
URL:https://epu-reimsepernay.org/evenements/culte-temple-de-reims-71/
LOCATION:Temple de Reims\, 13 ter Boulevard Lundy\, Reims\, 51100\, France
CATEGORIES:Culte
END:VEVENT
BEGIN:VEVENT
DTSTART;TZID=UTC:20260208T140000
DTEND;TZID=UTC:20260208T180000
DTSTAMP:20260425T115553
CREATED:20251113T084937Z
LAST-MODIFIED:20251113T084937Z
UID:7342-1770559200-1770573600@epu-reimsepernay.org
SUMMARY:Culte de l’Église malgache
DESCRIPTION:
URL:https://epu-reimsepernay.org/evenements/culte-de-leglise-malgache-48/
LOCATION:Temple de Reims\, 13 ter Boulevard Lundy\, Reims\, 51100\, France
CATEGORIES:Culte
END:VEVENT
END:VCALENDAR