BEGIN:VCALENDAR
VERSION:2.0
PRODID:-//Église protestante Unie - ECPv6.2.2//NONSGML v1.0//EN
CALSCALE:GREGORIAN
METHOD:PUBLISH
X-WR-CALNAME:Église protestante Unie
X-ORIGINAL-URL:https://epu-reimsepernay.org
X-WR-CALDESC:évènements pour Église protestante Unie
REFRESH-INTERVAL;VALUE=DURATION:PT1H
X-Robots-Tag:noindex
X-PUBLISHED-TTL:PT1H
BEGIN:VTIMEZONE
TZID:UTC
BEGIN:STANDARD
TZOFFSETFROM:+0000
TZOFFSETTO:+0000
TZNAME:UTC
DTSTART:20260101T000000
END:STANDARD
END:VTIMEZONE
BEGIN:VEVENT
DTSTART;TZID=UTC:20260503T103000
DTEND;TZID=UTC:20260503T103000
DTSTAMP:20260425T134706
CREATED:20260425T061420Z
LAST-MODIFIED:20260425T061420Z
UID:7805-1777804200-1777804200@epu-reimsepernay.org
SUMMARY:Culte (Temple de Reims)
DESCRIPTION:
URL:https://epu-reimsepernay.org/evenements/culte-temple-de-reims-80/
LOCATION:Temple de Reims\, 13 ter Boulevard Lundy\, Reims\, 51100\, France
CATEGORIES:Culte
END:VEVENT
BEGIN:VEVENT
DTSTART;TZID=UTC:20260503T103000
DTEND;TZID=UTC:20260503T103000
DTSTAMP:20260425T134706
CREATED:20260425T061457Z
LAST-MODIFIED:20260425T061457Z
UID:7807-1777804200-1777804200@epu-reimsepernay.org
SUMMARY:Culte (Temple d'Épernay)
DESCRIPTION:
URL:https://epu-reimsepernay.org/evenements/culte-temple-depernay-31/
LOCATION:Temple d’Epernay\, 2 Rue de la Poterne\, Epernay\, 51200\, France
CATEGORIES:Culte
END:VEVENT
BEGIN:VEVENT
DTSTART;TZID=UTC:20260510T103000
DTEND;TZID=UTC:20260510T103000
DTSTAMP:20260425T134706
CREATED:20260425T062012Z
LAST-MODIFIED:20260425T062012Z
UID:7823-1778409000-1778409000@epu-reimsepernay.org
SUMMARY:Culte (Temple de Reims)
DESCRIPTION:
URL:https://epu-reimsepernay.org/evenements/culte-temple-de-reims-81/
LOCATION:Temple de Reims\, 13 ter Boulevard Lundy\, Reims\, 51100\, France
CATEGORIES:Culte
END:VEVENT
BEGIN:VEVENT
DTSTART;TZID=UTC:20260510T140000
DTEND;TZID=UTC:20260510T180000
DTSTAMP:20260425T134706
CREATED:20260425T062207Z
LAST-MODIFIED:20260425T062207Z
UID:7829-1778421600-1778436000@epu-reimsepernay.org
SUMMARY:Culte de l’Église malgache
DESCRIPTION:
URL:https://epu-reimsepernay.org/evenements/culte-de-leglise-malgache-55/
LOCATION:Temple de Reims\, 13 ter Boulevard Lundy\, Reims\, 51100\, France
CATEGORIES:Culte
END:VEVENT
BEGIN:VEVENT
DTSTART;TZID=UTC:20260517T103000
DTEND;TZID=UTC:20260517T103000
DTSTAMP:20260425T134706
CREATED:20260425T062832Z
LAST-MODIFIED:20260425T062832Z
UID:7847-1779013800-1779013800@epu-reimsepernay.org
SUMMARY:Culte (Temple de Reims)
DESCRIPTION:
URL:https://epu-reimsepernay.org/evenements/culte-temple-de-reims-82/
LOCATION:Temple de Reims\, 13 ter Boulevard Lundy\, Reims\, 51100\, France
CATEGORIES:Culte
END:VEVENT
BEGIN:VEVENT
DTSTART;TZID=UTC:20260517T103000
DTEND;TZID=UTC:20260517T103000
DTSTAMP:20260425T134706
CREATED:20260425T062917Z
LAST-MODIFIED:20260425T062917Z
UID:7849-1779013800-1779013800@epu-reimsepernay.org
SUMMARY:Culte (Temple d'Épernay)
DESCRIPTION:
URL:https://epu-reimsepernay.org/evenements/culte-temple-depernay-32/
LOCATION:Temple d’Epernay\, 2 Rue de la Poterne\, Epernay\, 51200\, France
CATEGORIES:Culte
END:VEVENT
BEGIN:VEVENT
DTSTART;TZID=UTC:20260517T140000
DTEND;TZID=UTC:20260517T173000
DTSTAMP:20260425T134706
CREATED:20260110T194845Z
LAST-MODIFIED:20260110T195119Z
UID:7450-1779026400-1779039000@epu-reimsepernay.org
SUMMARY:Culte de l'ÉGLISE CAMEROUNAISE
DESCRIPTION:
URL:https://epu-reimsepernay.org/evenements/culte-de-leglise-camerounaise-27/
LOCATION:Temple de Reims\, 13 ter Boulevard Lundy\, Reims\, 51100\, France
CATEGORIES:Culte
END:VEVENT
BEGIN:VEVENT
DTSTART;TZID=UTC:20260524T103000
DTEND;TZID=UTC:20260524T103000
DTSTAMP:20260425T134706
CREATED:20260425T063556Z
LAST-MODIFIED:20260425T063556Z
UID:7869-1779618600-1779618600@epu-reimsepernay.org
SUMMARY:Culte de Pentecôte (Temple de Reims)
DESCRIPTION:
URL:https://epu-reimsepernay.org/evenements/culte-de-pentecote-temple-de-reims-2/
LOCATION:Temple de Reims\, 13 ter Boulevard Lundy\, Reims\, 51100\, France
CATEGORIES:Culte
END:VEVENT
BEGIN:VEVENT
DTSTART;TZID=UTC:20260524T103000
DTEND;TZID=UTC:20260524T103000
DTSTAMP:20260425T134706
CREATED:20260425T063629Z
LAST-MODIFIED:20260425T063629Z
UID:7871-1779618600-1779618600@epu-reimsepernay.org
SUMMARY:Culte de Pentecôte (Temple d'Épernay)
DESCRIPTION:
URL:https://epu-reimsepernay.org/evenements/culte-de-pentecote-temple-depernay-2/
LOCATION:Temple d’Epernay\, 2 Rue de la Poterne\, Epernay\, 51200\, France
CATEGORIES:Culte
END:VEVENT
BEGIN:VEVENT
DTSTART;TZID=UTC:20260524T140000
DTEND;TZID=UTC:20260524T180000
DTSTAMP:20260425T134706
CREATED:20260425T063701Z
LAST-MODIFIED:20260425T063701Z
UID:7873-1779631200-1779645600@epu-reimsepernay.org
SUMMARY:Culte de Pentecôte de l’Église malgache
DESCRIPTION:
URL:https://epu-reimsepernay.org/evenements/culte-de-pentecote-de-leglise-malgache/
LOCATION:Temple de Reims\, 13 ter Boulevard Lundy\, Reims\, 51100\, France
CATEGORIES:Culte
END:VEVENT
BEGIN:VEVENT
DTSTART;TZID=UTC:20260531T103000
DTEND;TZID=UTC:20260531T103000
DTSTAMP:20260425T134706
CREATED:20260425T064154Z
LAST-MODIFIED:20260425T064154Z
UID:7889-1780223400-1780223400@epu-reimsepernay.org
SUMMARY:Culte (Temple de Reims)
DESCRIPTION:
URL:https://epu-reimsepernay.org/evenements/culte-temple-de-reims-83/
LOCATION:Temple de Reims\, 13 ter Boulevard Lundy\, Reims\, 51100\, France
CATEGORIES:Culte
END:VEVENT
BEGIN:VEVENT
DTSTART;TZID=UTC:20260531T103000
DTEND;TZID=UTC:20260531T103000
DTSTAMP:20260425T134706
CREATED:20260425T064229Z
LAST-MODIFIED:20260425T064229Z
UID:7891-1780223400-1780223400@epu-reimsepernay.org
SUMMARY:Culte (Temple d'Épernay)
DESCRIPTION:
URL:https://epu-reimsepernay.org/evenements/culte-temple-depernay-33/
LOCATION:Temple d’Epernay\, 2 Rue de la Poterne\, Epernay\, 51200\, France
CATEGORIES:Culte
END:VEVENT
END:VCALENDAR