BEGIN:VCALENDAR
VERSION:2.0
PRODID:-//Église protestante Unie - ECPv6.2.2//NONSGML v1.0//EN
CALSCALE:GREGORIAN
METHOD:PUBLISH
X-ORIGINAL-URL:https://epu-reimsepernay.org
X-WR-CALDESC:évènements pour Église protestante Unie
REFRESH-INTERVAL;VALUE=DURATION:PT1H
X-Robots-Tag:noindex
X-PUBLISHED-TTL:PT1H
BEGIN:VTIMEZONE
TZID:UTC
BEGIN:STANDARD
TZOFFSETFROM:+0000
TZOFFSETTO:+0000
TZNAME:UTC
DTSTART:20260101T000000
END:STANDARD
END:VTIMEZONE
BEGIN:VEVENT
DTSTART;TZID=UTC:20260104T103000
DTEND;TZID=UTC:20260104T103000
DTSTAMP:20260425T120027
CREATED:20251113T080237Z
LAST-MODIFIED:20251113T080237Z
UID:7207-1767522600-1767522600@epu-reimsepernay.org
SUMMARY:Culte (Temple de Reims)
DESCRIPTION:
URL:https://epu-reimsepernay.org/evenements/culte-temple-de-reims-67/
LOCATION:Temple de Reims\, 13 ter Boulevard Lundy\, Reims\, 51100\, France
CATEGORIES:Culte
END:VEVENT
BEGIN:VEVENT
DTSTART;TZID=UTC:20260104T103000
DTEND;TZID=UTC:20260104T103000
DTSTAMP:20260425T120027
CREATED:20251113T080326Z
LAST-MODIFIED:20251113T080326Z
UID:7209-1767522600-1767522600@epu-reimsepernay.org
SUMMARY:Culte (Temple d'Épernay)
DESCRIPTION:
URL:https://epu-reimsepernay.org/evenements/culte-temple-depernay-24/
LOCATION:Temple d’Epernay\, 2 Rue de la Poterne\, Epernay\, 51200\, France
CATEGORIES:Culte
END:VEVENT
BEGIN:VEVENT
DTSTART;TZID=UTC:20260111T103000
DTEND;TZID=UTC:20260111T103000
DTSTAMP:20260425T120027
CREATED:20251113T081803Z
LAST-MODIFIED:20251113T081803Z
UID:7236-1768127400-1768127400@epu-reimsepernay.org
SUMMARY:Culte (Temple de Reims)
DESCRIPTION:
URL:https://epu-reimsepernay.org/evenements/culte-temple-de-reims-68/
LOCATION:Temple de Reims\, 13 ter Boulevard Lundy\, Reims\, 51100\, France
CATEGORIES:Culte
END:VEVENT
BEGIN:VEVENT
DTSTART;TZID=UTC:20260111T140000
DTEND;TZID=UTC:20260111T180000
DTSTAMP:20260425T120027
CREATED:20251113T082004Z
LAST-MODIFIED:20251113T082004Z
UID:7244-1768140000-1768154400@epu-reimsepernay.org
SUMMARY:Culte de l’Église malgache
DESCRIPTION:
URL:https://epu-reimsepernay.org/evenements/culte-de-leglise-malgache-46/
LOCATION:Temple de Reims\, 13 ter Boulevard Lundy\, Reims\, 51100\, France
CATEGORIES:Culte
END:VEVENT
BEGIN:VEVENT
DTSTART;TZID=UTC:20260118T103000
DTEND;TZID=UTC:20260118T103000
DTSTAMP:20260425T120027
CREATED:20251113T082552Z
LAST-MODIFIED:20251113T082552Z
UID:7264-1768732200-1768732200@epu-reimsepernay.org
SUMMARY:Culte des autorités (Temple de Reims)
DESCRIPTION:
URL:https://epu-reimsepernay.org/evenements/culte-des-autorites-temple-de-reims/
LOCATION:Temple de Reims\, 13 ter Boulevard Lundy\, Reims\, 51100\, France
CATEGORIES:Culte
END:VEVENT
BEGIN:VEVENT
DTSTART;TZID=UTC:20260118T103000
DTEND;TZID=UTC:20260118T103000
DTSTAMP:20260425T120027
CREATED:20251113T082620Z
LAST-MODIFIED:20251113T082620Z
UID:7266-1768732200-1768732200@epu-reimsepernay.org
SUMMARY:Culte (Temple d'Épernay)
DESCRIPTION:
URL:https://epu-reimsepernay.org/evenements/culte-temple-depernay-25/
LOCATION:Temple d’Epernay\, 2 Rue de la Poterne\, Epernay\, 51200\, France
CATEGORIES:Culte
END:VEVENT
BEGIN:VEVENT
DTSTART;TZID=UTC:20260118T140000
DTEND;TZID=UTC:20260118T173000
DTSTAMP:20260425T120027
CREATED:20260114T173930Z
LAST-MODIFIED:20260114T173930Z
UID:7479-1768744800-1768757400@epu-reimsepernay.org
SUMMARY:Culte de l'ÉGLISE CAMEROUNAISE
DESCRIPTION:
URL:https://epu-reimsepernay.org/evenements/culte-de-leglise-camerounaise-36/
LOCATION:Temple de Reims\, 13 ter Boulevard Lundy\, Reims\, 51100\, France
CATEGORIES:Culte
END:VEVENT
BEGIN:VEVENT
DTSTART;TZID=UTC:20260125T103000
DTEND;TZID=UTC:20260125T103000
DTSTAMP:20260425T120027
CREATED:20251113T083233Z
LAST-MODIFIED:20251113T083233Z
UID:7288-1769337000-1769337000@epu-reimsepernay.org
SUMMARY:Culte (Temple de Reims)
DESCRIPTION:
URL:https://epu-reimsepernay.org/evenements/culte-temple-de-reims-69/
LOCATION:Temple de Reims\, 13 ter Boulevard Lundy\, Reims\, 51100\, France
CATEGORIES:Culte
END:VEVENT
BEGIN:VEVENT
DTSTART;TZID=UTC:20260125T140000
DTEND;TZID=UTC:20260125T180000
DTSTAMP:20260425T120027
CREATED:20251113T083447Z
LAST-MODIFIED:20251113T083447Z
UID:7294-1769349600-1769364000@epu-reimsepernay.org
SUMMARY:Culte de l’Église malgache
DESCRIPTION:
URL:https://epu-reimsepernay.org/evenements/culte-de-leglise-malgache-47/
LOCATION:Temple de Reims\, 13 ter Boulevard Lundy\, Reims\, 51100\, France
CATEGORIES:Culte
END:VEVENT
END:VCALENDAR