BEGIN:VCALENDAR
VERSION:2.0
PRODID:-//Église protestante Unie - ECPv6.2.2//NONSGML v1.0//EN
CALSCALE:GREGORIAN
METHOD:PUBLISH
X-WR-CALNAME:Église protestante Unie
X-ORIGINAL-URL:https://epu-reimsepernay.org
X-WR-CALDESC:évènements pour Église protestante Unie
REFRESH-INTERVAL;VALUE=DURATION:PT1H
X-Robots-Tag:noindex
X-PUBLISHED-TTL:PT1H
BEGIN:VTIMEZONE
TZID:UTC
BEGIN:STANDARD
TZOFFSETFROM:+0000
TZOFFSETTO:+0000
TZNAME:UTC
DTSTART:20260101T000000
END:STANDARD
END:VTIMEZONE
BEGIN:VEVENT
DTSTART;TZID=UTC:20260330T200000
DTEND;TZID=UTC:20260330T200000
DTSTAMP:20260421T095805
CREATED:20260124T082736Z
LAST-MODIFIED:20260124T082736Z
UID:7603-1774900800-1774900800@epu-reimsepernay.org
SUMMARY:ECP Conférence  « L’autorité des médias : comment les réseaux sociaux ont tout changé » animée par M. Joseph GOTTE
DESCRIPTION:
URL:https://epu-reimsepernay.org/evenements/ecp-conference-lautorite-des-medias-comment-les-reseaux-sociaux-ont-tout-change-animee-par-m-joseph-gotte/
LOCATION:Rue Andrieux\, 12 Rue Andrieux\, Reims\, 51100\, France
CATEGORIES:Conférence
END:VEVENT
END:VCALENDAR