BEGIN:VCALENDAR
VERSION:2.0
PRODID:-//Église protestante Unie - ECPv6.2.2//NONSGML v1.0//EN
CALSCALE:GREGORIAN
METHOD:PUBLISH
X-ORIGINAL-URL:https://epu-reimsepernay.org
X-WR-CALDESC:évènements pour Église protestante Unie
REFRESH-INTERVAL;VALUE=DURATION:PT1H
X-Robots-Tag:noindex
X-PUBLISHED-TTL:PT1H
BEGIN:VTIMEZONE
TZID:UTC
BEGIN:STANDARD
TZOFFSETFROM:+0000
TZOFFSETTO:+0000
TZNAME:UTC
DTSTART:20260101T000000
END:STANDARD
END:VTIMEZONE
BEGIN:VEVENT
DTSTART;TZID=UTC:20260316T200000
DTEND;TZID=UTC:20260316T200000
DTSTAMP:20260425T113529
CREATED:20260124T081736Z
LAST-MODIFIED:20260124T081736Z
UID:7561-1773691200-1773691200@epu-reimsepernay.org
SUMMARY:ECP Conférence  « Les expressions artistiques\, de la contestation à la norme. » Soirée collective : musique\, poésie\, mode.
DESCRIPTION:
URL:https://epu-reimsepernay.org/evenements/ecp-conference-les-expressions-artistiques-de-la-contestation-a-la-norme-soiree-collective-musique-poesie-mode/
LOCATION:Rue Andrieux\, 12 Rue Andrieux\, Reims\, 51100\, France
CATEGORIES:Conférence
END:VEVENT
END:VCALENDAR