BEGIN:VCALENDAR
VERSION:2.0
PRODID:-//Église protestante Unie - ECPv6.2.2//NONSGML v1.0//EN
CALSCALE:GREGORIAN
METHOD:PUBLISH
X-WR-CALNAME:Église protestante Unie
X-ORIGINAL-URL:https://epu-reimsepernay.org
X-WR-CALDESC:évènements pour Église protestante Unie
REFRESH-INTERVAL;VALUE=DURATION:PT1H
X-Robots-Tag:noindex
X-PUBLISHED-TTL:PT1H
BEGIN:VTIMEZONE
TZID:UTC
BEGIN:STANDARD
TZOFFSETFROM:+0000
TZOFFSETTO:+0000
TZNAME:UTC
DTSTART:20260101T000000
END:STANDARD
END:VTIMEZONE
BEGIN:VEVENT
DTSTART;TZID=UTC:20261211T200000
DTEND;TZID=UTC:20261211T233000
DTSTAMP:20260421T113835
CREATED:20260316T155541Z
LAST-MODIFIED:20260316T155541Z
UID:7771-1797019200-1797031800@epu-reimsepernay.org
SUMMARY:répétition Arezzo
DESCRIPTION:
URL:https://epu-reimsepernay.org/evenements/repetition-arezzo/
LOCATION:Temple de Reims\, 13 ter Boulevard Lundy\, Reims\, 51100\, France
CATEGORIES:Concert
END:VEVENT
BEGIN:VEVENT
DTSTART;TZID=UTC:20261212T200000
DTEND;TZID=UTC:20261212T233000
DTSTAMP:20260421T113835
CREATED:20260316T155104Z
LAST-MODIFIED:20260316T155104Z
UID:7768-1797105600-1797118200@epu-reimsepernay.org
SUMMARY:concert Arezzo
DESCRIPTION:
URL:https://epu-reimsepernay.org/evenements/concert-arezzo-2/
LOCATION:Temple de Reims\, 13 ter Boulevard Lundy\, Reims\, 51100\, France
CATEGORIES:Concert
END:VEVENT
END:VCALENDAR