BEGIN:VCALENDAR
VERSION:2.0
PRODID:-//Église protestante Unie - ECPv6.2.2//NONSGML v1.0//EN
CALSCALE:GREGORIAN
METHOD:PUBLISH
X-WR-CALNAME:Église protestante Unie
X-ORIGINAL-URL:https://epu-reimsepernay.org
X-WR-CALDESC:évènements pour Église protestante Unie
REFRESH-INTERVAL;VALUE=DURATION:PT1H
X-Robots-Tag:noindex
X-PUBLISHED-TTL:PT1H
BEGIN:VTIMEZONE
TZID:UTC
BEGIN:STANDARD
TZOFFSETFROM:+0000
TZOFFSETTO:+0000
TZNAME:UTC
DTSTART:20260101T000000
END:STANDARD
END:VTIMEZONE
BEGIN:VEVENT
DTSTART;TZID=UTC:20260419T103000
DTEND;TZID=UTC:20260419T103000
DTSTAMP:20260419T113526
CREATED:20260225T161456Z
LAST-MODIFIED:20260225T161837Z
UID:7707-1776594600-1776594600@epu-reimsepernay.org
SUMMARY:Culte (Temple de Reims)
DESCRIPTION:
URL:https://epu-reimsepernay.org/evenements/culte-temple-de-reims-78/
LOCATION:Temple de Reims\, 13 ter Boulevard Lundy\, Reims\, 51100\, France
CATEGORIES:Culte
END:VEVENT
BEGIN:VEVENT
DTSTART;TZID=UTC:20260419T103000
DTEND;TZID=UTC:20260419T103000
DTSTAMP:20260419T113526
CREATED:20260225T161726Z
LAST-MODIFIED:20260225T161726Z
UID:7709-1776594600-1776594600@epu-reimsepernay.org
SUMMARY:Culte (Temple d'Épernay)
DESCRIPTION:
URL:https://epu-reimsepernay.org/evenements/culte-temple-depernay-30/
LOCATION:Temple d’Epernay\, 2 Rue de la Poterne\, Epernay\, 51200\, France
CATEGORIES:Culte
END:VEVENT
BEGIN:VEVENT
DTSTART;TZID=UTC:20260419T140000
DTEND;TZID=UTC:20260419T160000
DTSTAMP:20260419T113526
CREATED:20260110T194630Z
LAST-MODIFIED:20260110T194630Z
UID:7446-1776607200-1776614400@epu-reimsepernay.org
SUMMARY:Visites payantes du temple de REIMS sur inscription via le site de l'office du tourisme ou le point info-culture
DESCRIPTION:
URL:https://epu-reimsepernay.org/evenements/visites-payantes-du-temple-de-reims-sur-inscription-via-le-site-de-loffice-du-tourisme-ou-le-point-info-culture/
LOCATION:Temple de Reims\, 13 ter Boulevard Lundy\, Reims\, 51100\, France
END:VEVENT
END:VCALENDAR