BEGIN:VCALENDAR
VERSION:2.0
PRODID:-//Église protestante Unie - ECPv6.2.2//NONSGML v1.0//EN
CALSCALE:GREGORIAN
METHOD:PUBLISH
X-WR-CALNAME:Église protestante Unie
X-ORIGINAL-URL:https://epu-reimsepernay.org
X-WR-CALDESC:évènements pour Église protestante Unie
REFRESH-INTERVAL;VALUE=DURATION:PT1H
X-Robots-Tag:noindex
X-PUBLISHED-TTL:PT1H
BEGIN:VTIMEZONE
TZID:UTC
BEGIN:STANDARD
TZOFFSETFROM:+0000
TZOFFSETTO:+0000
TZNAME:UTC
DTSTART:20260101T000000
END:STANDARD
END:VTIMEZONE
BEGIN:VEVENT
DTSTART;TZID=UTC:20260321T090000
DTEND;TZID=UTC:20260321T120000
DTSTAMP:20260425T111918
CREATED:20260124T082057Z
LAST-MODIFIED:20260124T082057Z
UID:7575-1774083600-1774094400@epu-reimsepernay.org
SUMMARY:Assemblée générale de l’ACEPURE
DESCRIPTION:
URL:https://epu-reimsepernay.org/evenements/assemblee-generale-de-lacepure/
LOCATION:Rue Andrieux\, 12 Rue Andrieux\, Reims\, 51100\, France
CATEGORIES:Vie du conseil
END:VEVENT
BEGIN:VEVENT
DTSTART;TZID=UTC:20260321T150000
DTEND;TZID=UTC:20260321T170000
DTSTAMP:20260425T111918
CREATED:20260124T082148Z
LAST-MODIFIED:20260225T154302Z
UID:7579-1774105200-1774112400@epu-reimsepernay.org
SUMMARY:Répétition de la chorale malgache
DESCRIPTION:
URL:https://epu-reimsepernay.org/evenements/repetition-de-la-chorale-malgache-84/
LOCATION:Rue Andrieux\, 12 Rue Andrieux\, Reims\, 51100\, France
CATEGORIES:Musique Louange
END:VEVENT
BEGIN:VEVENT
DTSTART;TZID=UTC:20260321T160000
DTEND;TZID=UTC:20260321T180000
DTSTAMP:20260425T111918
CREATED:20260124T082122Z
LAST-MODIFIED:20260124T082122Z
UID:7577-1774108800-1774116000@epu-reimsepernay.org
SUMMARY:Répétition du groupe musical
DESCRIPTION:
URL:https://epu-reimsepernay.org/evenements/repetition-du-groupe-musical-9/
CATEGORIES:Musique Louange
END:VEVENT
BEGIN:VEVENT
DTSTART;TZID=UTC:20260321T163000
DTEND;TZID=UTC:20260321T183000
DTSTAMP:20260425T111918
CREATED:20260206T114601Z
LAST-MODIFIED:20260206T114601Z
UID:7630-1774110600-1774117800@epu-reimsepernay.org
SUMMARY:répétition de la chorale Victoire
DESCRIPTION:
URL:https://epu-reimsepernay.org/evenements/repetition-de-la-chorale-victoire-36/
CATEGORIES:Musique Louange
END:VEVENT
BEGIN:VEVENT
DTSTART;TZID=UTC:20260321T190000
DTEND;TZID=UTC:20260321T235900
DTSTAMP:20260425T111918
CREATED:20260206T113853Z
LAST-MODIFIED:20260206T113853Z
UID:7616-1774119600-1774137540@epu-reimsepernay.org
SUMMARY:Reservation salle: Anniversaire Mme MBANG
DESCRIPTION:
URL:https://epu-reimsepernay.org/evenements/reservation-salle-anniversaire-mme-mbang/
LOCATION:Rue Andrieux\, 12 Rue Andrieux\, Reims\, 51100\, France
END:VEVENT
END:VCALENDAR