BEGIN:VCALENDAR
VERSION:2.0
PRODID:-//Église protestante Unie - ECPv6.2.2//NONSGML v1.0//EN
CALSCALE:GREGORIAN
METHOD:PUBLISH
X-WR-CALNAME:Église protestante Unie
X-ORIGINAL-URL:https://epu-reimsepernay.org
X-WR-CALDESC:évènements pour Église protestante Unie
REFRESH-INTERVAL;VALUE=DURATION:PT1H
X-Robots-Tag:noindex
X-PUBLISHED-TTL:PT1H
BEGIN:VTIMEZONE
TZID:UTC
BEGIN:STANDARD
TZOFFSETFROM:+0000
TZOFFSETTO:+0000
TZNAME:UTC
DTSTART:20260101T000000
END:STANDARD
END:VTIMEZONE
BEGIN:VEVENT
DTSTART;VALUE=DATE:20260307
DTEND;VALUE=DATE:20260308
DTSTAMP:20260425T111904
CREATED:20260110T195604Z
LAST-MODIFIED:20260110T195604Z
UID:7466-1772841600-1772927999@epu-reimsepernay.org
SUMMARY:Réservation des salles annexes Badida & Muriel
DESCRIPTION:
URL:https://epu-reimsepernay.org/evenements/reservation-des-salles-annexes-badida-muriel/
LOCATION:Rue Andrieux\, 12 Rue Andrieux\, Reims\, 51100\, France
END:VEVENT
BEGIN:VEVENT
DTSTART;TZID=UTC:20260307T150000
DTEND;TZID=UTC:20260307T170000
DTSTAMP:20260425T111904
CREATED:20260124T080816Z
LAST-MODIFIED:20260124T080816Z
UID:7523-1772895600-1772902800@epu-reimsepernay.org
SUMMARY:Répétition de la chorale malgache
DESCRIPTION:
URL:https://epu-reimsepernay.org/evenements/repetition-de-la-chorale-malgache-82/
LOCATION:Rue Andrieux\, 12 Rue Andrieux\, Reims\, 51100\, France
CATEGORIES:Musique Louange
END:VEVENT
BEGIN:VEVENT
DTSTART;TZID=UTC:20260307T160000
DTEND;TZID=UTC:20260307T180000
DTSTAMP:20260425T111904
CREATED:20260124T080844Z
LAST-MODIFIED:20260124T080844Z
UID:7525-1772899200-1772906400@epu-reimsepernay.org
SUMMARY:Répétition du groupe musical
DESCRIPTION:
URL:https://epu-reimsepernay.org/evenements/repetition-du-groupe-musical-8/
CATEGORIES:Musique Louange
END:VEVENT
BEGIN:VEVENT
DTSTART;TZID=UTC:20260307T163000
DTEND;TZID=UTC:20260307T183000
DTSTAMP:20260425T111904
CREATED:20260206T114539Z
LAST-MODIFIED:20260225T153348Z
UID:7628-1772901000-1772908200@epu-reimsepernay.org
SUMMARY:Répétition de la chorale Victoire
DESCRIPTION:
URL:https://epu-reimsepernay.org/evenements/repetition-de-la-chorale-victoire-35/
LOCATION:Rue Andrieux\, 12 Rue Andrieux\, Reims\, 51100\, France
CATEGORIES:Musique Louange
END:VEVENT
END:VCALENDAR