BEGIN:VCALENDAR
VERSION:2.0
PRODID:-//Église protestante Unie - ECPv6.2.2//NONSGML v1.0//EN
CALSCALE:GREGORIAN
METHOD:PUBLISH
X-ORIGINAL-URL:https://epu-reimsepernay.org
X-WR-CALDESC:évènements pour Église protestante Unie
REFRESH-INTERVAL;VALUE=DURATION:PT1H
X-Robots-Tag:noindex
X-PUBLISHED-TTL:PT1H
BEGIN:VTIMEZONE
TZID:UTC
BEGIN:STANDARD
TZOFFSETFROM:+0000
TZOFFSETTO:+0000
TZNAME:UTC
DTSTART:20260101T000000
END:STANDARD
END:VTIMEZONE
BEGIN:VEVENT
DTSTART;TZID=UTC:20260129T100000
DTEND;TZID=UTC:20260129T170000
DTSTAMP:20260425T113926
CREATED:20251113T083745Z
LAST-MODIFIED:20251113T083745Z
UID:7304-1769680800-1769706000@epu-reimsepernay.org
SUMMARY:Groupe « Nature et bois »
DESCRIPTION:
URL:https://epu-reimsepernay.org/evenements/groupe-nature-et-bois-77/
LOCATION:Rue Raymond Guyot\, 19 Rue Raymond Guyot\, Reims\, 51100\, France
CATEGORIES:Groupe Nature & Bois
END:VEVENT
BEGIN:VEVENT
DTSTART;TZID=UTC:20260129T180000
DTEND;TZID=UTC:20260129T200000
DTSTAMP:20260425T113926
CREATED:20260110T193922Z
LAST-MODIFIED:20260110T193922Z
UID:7432-1769709600-1769716800@epu-reimsepernay.org
SUMMARY:Réunion de l'ACAT-REIMS
DESCRIPTION:
URL:https://epu-reimsepernay.org/evenements/reunion-de-lacat-reims-2/
LOCATION:Rue Andrieux\, 12 Rue Andrieux\, Reims\, 51100\, France
END:VEVENT
END:VCALENDAR