BEGIN:VCALENDAR
VERSION:2.0
PRODID:-//Église protestante Unie - ECPv6.2.2//NONSGML v1.0//EN
CALSCALE:GREGORIAN
METHOD:PUBLISH
X-ORIGINAL-URL:https://epu-reimsepernay.org
X-WR-CALDESC:évènements pour Église protestante Unie
REFRESH-INTERVAL;VALUE=DURATION:PT1H
X-Robots-Tag:noindex
X-PUBLISHED-TTL:PT1H
BEGIN:VTIMEZONE
TZID:UTC
BEGIN:STANDARD
TZOFFSETFROM:+0000
TZOFFSETTO:+0000
TZNAME:UTC
DTSTART:20250101T000000
END:STANDARD
END:VTIMEZONE
BEGIN:VEVENT
DTSTART;TZID=UTC:20250629T103000
DTEND;TZID=UTC:20250629T103000
DTSTAMP:20260424T084531
CREATED:20250301T083447Z
LAST-MODIFIED:20250301T083447Z
UID:6470-1751193000-1751193000@epu-reimsepernay.org
SUMMARY:Culte (Temple d' Épernay)
DESCRIPTION:
URL:https://epu-reimsepernay.org/evenements/culte-temple-d-epernay-18/
LOCATION:Temple d’Epernay\, 2 Rue de la Poterne\, Epernay\, 51200\, France
CATEGORIES:Culte
END:VEVENT
BEGIN:VEVENT
DTSTART;TZID=UTC:20250629T110000
DTEND;TZID=UTC:20250629T110000
DTSTAMP:20260424T084531
CREATED:20250301T083413Z
LAST-MODIFIED:20250606T074050Z
UID:6468-1751194800-1751194800@epu-reimsepernay.org
SUMMARY:Culte et fête de plein air à SILLERY
DESCRIPTION:
URL:https://epu-reimsepernay.org/evenements/culte-temple-de-reims-45/
LOCATION:Sillery\, 2 rue de la gare\, SILLERY\, 51500\, France
CATEGORIES:Culte
END:VEVENT
END:VCALENDAR