BEGIN:VCALENDAR
VERSION:2.0
PRODID:-//Église protestante Unie - ECPv6.2.2//NONSGML v1.0//EN
CALSCALE:GREGORIAN
METHOD:PUBLISH
X-ORIGINAL-URL:https://epu-reimsepernay.org
X-WR-CALDESC:évènements pour Église protestante Unie
REFRESH-INTERVAL;VALUE=DURATION:PT1H
X-Robots-Tag:noindex
X-PUBLISHED-TTL:PT1H
BEGIN:VTIMEZONE
TZID:UTC
BEGIN:STANDARD
TZOFFSETFROM:+0000
TZOFFSETTO:+0000
TZNAME:UTC
DTSTART:20250101T000000
END:STANDARD
END:VTIMEZONE
BEGIN:VEVENT
DTSTART;TZID=UTC:20250628T160000
DTEND;TZID=UTC:20250628T160000
DTSTAMP:20260424T101620
CREATED:20250616T170421Z
LAST-MODIFIED:20250616T170421Z
UID:6610-1751126400-1751126400@epu-reimsepernay.org
SUMMARY:Réservation  des salles annexes pour Lydie RAHARITIANA (rassemblement famille\, amis\, paroissiens pour présenter les condoléances à l'occasion du décès de sa maman)
DESCRIPTION:
URL:https://epu-reimsepernay.org/evenements/reservation-des-salles-annexes-pour-lydie-raharitiana-rassemblement-famille-amis-paroissiens-pour-presenter-les-condoleances-a-loccasion-du-deces-de-sa-maman/
LOCATION:Rue Andrieux\, 12 Rue Andrieux\, Reims\, 51100\, France
END:VEVENT
END:VCALENDAR