BEGIN:VCALENDAR
VERSION:2.0
PRODID:-//Église protestante Unie - ECPv6.2.2//NONSGML v1.0//EN
CALSCALE:GREGORIAN
METHOD:PUBLISH
X-WR-CALNAME:Église protestante Unie
X-ORIGINAL-URL:https://epu-reimsepernay.org
X-WR-CALDESC:évènements pour Église protestante Unie
REFRESH-INTERVAL;VALUE=DURATION:PT1H
X-Robots-Tag:noindex
X-PUBLISHED-TTL:PT1H
BEGIN:VTIMEZONE
TZID:UTC
BEGIN:STANDARD
TZOFFSETFROM:+0000
TZOFFSETTO:+0000
TZNAME:UTC
DTSTART:20250101T000000
END:STANDARD
END:VTIMEZONE
BEGIN:VEVENT
DTSTART;TZID=UTC:20250511T103000
DTEND;TZID=UTC:20250511T103000
DTSTAMP:20260421T112610
CREATED:20250301T074219Z
LAST-MODIFIED:20250301T074219Z
UID:6342-1746959400-1746959400@epu-reimsepernay.org
SUMMARY:Culte (Temple de Reims)
DESCRIPTION:
URL:https://epu-reimsepernay.org/evenements/culte-temple-de-reims-40/
LOCATION:Temple de Reims\, 13 ter Boulevard Lundy\, Reims\, 51100\, France
CATEGORIES:Culte
END:VEVENT
BEGIN:VEVENT
DTSTART;TZID=UTC:20250511T103000
DTEND;TZID=UTC:20250511T120000
DTSTAMP:20260421T112610
CREATED:20250301T074258Z
LAST-MODIFIED:20250301T074258Z
UID:6344-1746959400-1746964800@epu-reimsepernay.org
SUMMARY:KT 13
DESCRIPTION:
URL:https://epu-reimsepernay.org/evenements/kt-13/
LOCATION:Rue Andrieux\, 12 Rue Andrieux\, Reims\, 51100\, France
CATEGORIES:Catéchisme
END:VEVENT
BEGIN:VEVENT
DTSTART;TZID=UTC:20250511T120000
DTEND;TZID=UTC:20250511T120000
DTSTAMP:20260421T112610
CREATED:20250301T074340Z
LAST-MODIFIED:20250301T074340Z
UID:6346-1746964800-1746964800@epu-reimsepernay.org
SUMMARY:Repas fraternel
DESCRIPTION:
URL:https://epu-reimsepernay.org/evenements/repas-fraternel-18/
LOCATION:Rue Andrieux\, 12 Rue Andrieux\, Reims\, 51100\, France
CATEGORIES:Repas de paroisse
END:VEVENT
BEGIN:VEVENT
DTSTART;TZID=UTC:20250511T140000
DTEND;TZID=UTC:20250511T180000
DTSTAMP:20260421T112610
CREATED:20240801T155454Z
LAST-MODIFIED:20240801T155454Z
UID:5652-1746972000-1746986400@epu-reimsepernay.org
SUMMARY:Culte de l'église malgache
DESCRIPTION:
URL:https://epu-reimsepernay.org/evenements/culte-de-leglise-malgache-36/
LOCATION:Temple de Reims\, 13 ter Boulevard Lundy\, Reims\, 51100\, France
CATEGORIES:Culte
END:VEVENT
END:VCALENDAR